BEGIN:VCALENDAR
VERSION:2.0
PRODID:-// - ECPv6.15.20//NONSGML v1.0//EN
CALSCALE:GREGORIAN
METHOD:PUBLISH
X-ORIGINAL-URL:https://souvenir-francais-79.fr
X-WR-CALDESC:Évènements pour 
REFRESH-INTERVAL;VALUE=DURATION:PT1H
X-Robots-Tag:noindex
X-PUBLISHED-TTL:PT1H
BEGIN:VTIMEZONE
TZID:Europe/Paris
BEGIN:DAYLIGHT
TZOFFSETFROM:+0100
TZOFFSETTO:+0200
TZNAME:CEST
DTSTART:20230326T010000
END:DAYLIGHT
BEGIN:STANDARD
TZOFFSETFROM:+0200
TZOFFSETTO:+0100
TZNAME:CET
DTSTART:20231029T010000
END:STANDARD
BEGIN:DAYLIGHT
TZOFFSETFROM:+0100
TZOFFSETTO:+0200
TZNAME:CEST
DTSTART:20240331T010000
END:DAYLIGHT
BEGIN:STANDARD
TZOFFSETFROM:+0200
TZOFFSETTO:+0100
TZNAME:CET
DTSTART:20241027T010000
END:STANDARD
BEGIN:DAYLIGHT
TZOFFSETFROM:+0100
TZOFFSETTO:+0200
TZNAME:CEST
DTSTART:20250330T010000
END:DAYLIGHT
BEGIN:STANDARD
TZOFFSETFROM:+0200
TZOFFSETTO:+0100
TZNAME:CET
DTSTART:20251026T010000
END:STANDARD
END:VTIMEZONE
BEGIN:VEVENT
DTSTART;TZID=Europe/Paris:20241116T090000
DTEND;TZID=Europe/Paris:20241127T160000
DTSTAMP:20260424T233111
CREATED:20220121T160429Z
LAST-MODIFIED:20241010T181253Z
UID:920-1731747600-1732723200@souvenir-francais-79.fr
SUMMARY:Congrès départemental du Souvenir Francais
DESCRIPTION:LE SAMEDI 16 NOVEMBRE 2024 \nA PARTHENAY – Domaine des Loges \nPROGRAMME DE LA JOURNEE : \n\n10h00 : Accueil\n10h30: Ouverture du Congrès\n11h30 : Accueil des autorités et associations invitées\n12h00 : Déplacement à pied vers le monuments aux morts du 114e RI au cimetière\n12h15 : Discours\, dépôt de gerbe\n12h30 : Retour au domaine des Loges\, verre de l’amitié et remerciements\n\nUn repas sera servi par la suite.
URL:https://souvenir-francais-79.fr/event/congres-departemental-du-souvenir-francais/
END:VEVENT
END:VCALENDAR